BEGIN:VCALENDAR
VERSION:2.0
PRODID: -//Q4 Inc.//EN
METHOD:PUBLISH
BEGIN:VTIMEZONE
TZID:America/New_York
X-LIC-LOCATION:America/New_York
BEGIN:DAYLIGHT
TZOFFSETFROM:-0500
TZOFFSETTO:-0400
TZNAME:EDT
DTSTART:19700308T020000
RRULE:FREQ=YEARLY;BYMONTH=3;BYDAY=2SU
END:DAYLIGHT
BEGIN:STANDARD
TZOFFSETFROM:-0400
TZOFFSETTO:-0500
TZNAME:EST
DTSTART:19701101T020000
RRULE:FREQ=YEARLY;BYMONTH=11;BYDAY=1SU
END:STANDARD
END:VTIMEZONE
BEGIN:VEVENT
ORGANIZER:MAILTO:investors@dupont.com
DTSTART;TZID="America/New_York":20260505T080000
DTEND;TZID="America/New_York":20260505T090000
LOCATION:
UID:b8165526-baf8-4148-a0d4-4327c838132a
DTSTAMP:20260420T120719
SUMMARY:DuPont 1Q 2026 Earnings
DESCRIPTION: View More Information: https://www.investors.dupont.com/investors/dupont-investors/events-and-presentations/event-details/2026/DuPont-1Q-2026-Earnings/default.aspx
URL;VALUE=URI:https://www.investors.dupont.com/investors/dupont-investors/events-and-presentations/event-details/2026/DuPont-1Q-2026-Earnings/default.aspx
PRIORITY:5
CLASS:PUBLIC
END:VEVENT
END:VCALENDAR
